BEGIN:VCALENDAR
VERSION:2.0
PRODID:-//Bachelor of Product Design Telkom University - ECPv6.15.18//NONSGML v1.0//EN
CALSCALE:GREGORIAN
METHOD:PUBLISH
X-WR-CALNAME:Bachelor of Product Design Telkom University
X-ORIGINAL-URL:https://bpd.telkomuniversity.ac.id/en
X-WR-CALDESC:Events for Bachelor of Product Design Telkom University
REFRESH-INTERVAL;VALUE=DURATION:PT1H
X-Robots-Tag:noindex
X-PUBLISHED-TTL:PT1H
BEGIN:VTIMEZONE
TZID:Asia/Jakarta
BEGIN:STANDARD
TZOFFSETFROM:+0700
TZOFFSETTO:+0700
TZNAME:WIB
DTSTART:20240101T000000
END:STANDARD
END:VTIMEZONE
BEGIN:VEVENT
DTSTART;TZID=Asia/Jakarta:20250602T090000
DTEND;TZID=Asia/Jakarta:20250602T123000
DTSTAMP:20260420T102818
CREATED:20250604T040525Z
LAST-MODIFIED:20250604T040525Z
UID:16012-1748854800-1748867400@bpd.telkomuniversity.ac.id
SUMMARY:KULIAH UMUM BERSAMA TORCH “ENTREPRENEUR VS INTRAPRENEUR”
DESCRIPTION:📢 [TORCH INTERNSHIP OPPORTUNITY] – Kuliah Umum & Info Magang 🎨💻 \nHalo Sobat Despro!\nApa kabar? Semoga dalam keadaan semangat selalu! 🙌🏻 \nBuat kalian mahasiswa yang sedang mencari tempat magang atau ingin mendapatkan wawasan baru dari profesional industri\, ini saatnya! Prodi Desain Produk menghadirkan Kuliah Umum Spesial dari Torch yang akan membahas materi menarik sekaligus memberikan informasi kesempatan ✨Magang Eksklusif✨ \n✨ Acara ini terbuka untuk seluruh mahasiswa Desain Produk\, namun bersifat WAJIB untuk mahasiswa angkatan 2022 Semester 6. Jadi\, pastikan kalian hadir ya! \n🗓️ Hari\, Tanggal: Senin\, 2 Juni 2025\n📍 Tempat: Gedung Sebatik – Aula FIK Lantai 5\n⏰ Waktu: Pukul 09.00 – 12.30 WIB \nAcara ini akan menghadirkan narasumber profesional di bidangnya\, jadi jangan sampai ketinggalan ya! \n> 📌 Catatan Penting untuk Angkatan 2022:\n> Setelah kuliah umum selesai\, akan dilanjutkan dengan Sosialisasi Kerja Profesi dari Prodi. Mohon untuk tidak langsung pulang setelah acara inti berakhir. \nYuk\, manfaatkan kesempatan ini untuk memperluas wawasan dan membuka pintu menuju pengalaman magang yang berharga! 🚀 \nSampai jumpa! 👋🏻 \n#productdesigntelkom #desainproduk #desainproduktelkom #FIKjawara #telkomuniversity \n  \nMore info : \nhttps://www.instagram.com/productdesigntelkom/ \n 
URL:https://bpd.telkomuniversity.ac.id/en/event/kuliah-umum-bersama-torch-entrepreneur-vs-intrapreneur/
END:VEVENT
END:VCALENDAR